BEGIN:VCALENDAR
VERSION:2.0
PRODID:-//wp-events-plugin.com//6.6.4.4//EN
TZID:Europe/Stockholm
X-WR-TIMEZONE:Europe/Stockholm
BEGIN:VEVENT
UID:1@kottarna.com
DTSTART;TZID=Europe/Stockholm:20231214T173000
DTEND;TZID=Europe/Stockholm:20231214T190000
DTSTAMP:20230928T172531Z
URL:https://kottarna.com/events/pa-gang/
SUMMARY:På gång
DESCRIPTION:https://youtu.be/qWg8FWrAi1o?si=ZroS_YM-TkfVQClq
END:VEVENT
BEGIN:VTIMEZONE
TZID:Europe/Stockholm
X-LIC-LOCATION:Europe/Stockholm
BEGIN:STANDARD
DTSTART:20231029T020000
TZOFFSETFROM:+0200
TZOFFSETTO:+0100
TZNAME:CET
END:STANDARD
END:VTIMEZONE
END:VCALENDAR